BEGIN:VCALENDAR
VERSION:2.0
PRODID:icalendar-ruby
CALSCALE:GREGORIAN
METHOD:PUBLISH
BEGIN:VEVENT
DTSTAMP:20260426T040947Z
UID:7-349070@riverchurchnola.com
DTSTART:20261015T000000Z
DTEND:20261015T011500Z
CLASS:PUBLIC
CREATED:20260425T201202
DESCRIPTION:
LAST-MODIFIED:20260425T201202
LOCATION:River Church
SUMMARY:Wednesday Night Worship Service
URL;VALUE=URI:https://riverchurchnola.com/events/wednesday-night-worship-se
 rvice/2026-10-14
END:VEVENT
END:VCALENDAR
